
BEGIN:VCALENDAR
PRODID:-//Buz Software// Calendar//EN
VERSION:2.0
METHOD:REQUEST
BEGIN:VEVENT
DTSTART:20260413T050100Z
DTEND:2026041300Z
LOCATION:The Windsor Club
TRANSP:OPAQUE
SEQUENCE:0
UID:1180_1180_1180_1180
DTSTAMP:20260420T090200Z
ORGANIZER:CN=The Windsor Club:mailto:admin@thewindsorclub.com
STATUS:CONFIRMED
DESCRIPTION:
SUMMARY:CLOSED
PRIORITY:5
CLASS:PUBLIC
BEGIN:VALARM
TRIGGER:PT180M
ACTION:DISPLAY
DESCRIPTION:Reminder
END:VALARM
END:VEVENT
END:VCALENDAR
