
BEGIN:VCALENDAR
PRODID:-//Buz Software// Calendar//EN
VERSION:2.0
METHOD:REQUEST
BEGIN:VEVENT
DTSTART:20260417T230000Z
DTEND:2026041700Z
LOCATION:The Windsor Club
TRANSP:OPAQUE
SEQUENCE:0
UID:1272_1272_1272_1272
DTSTAMP:20260420T092000Z
ORGANIZER:CN=The Windsor Club:mailto:admin@thewindsorclub.com
STATUS:CONFIRMED
DESCRIPTION:
SUMMARY:MEMBER EVENT: Wine Night
PRIORITY:5
CLASS:PUBLIC
BEGIN:VALARM
TRIGGER:PT180M
ACTION:DISPLAY
DESCRIPTION:Reminder
END:VALARM
END:VEVENT
END:VCALENDAR
