
BEGIN:VCALENDAR
PRODID:-//Buz Software// Calendar//EN
VERSION:2.0
METHOD:REQUEST
BEGIN:VEVENT
DTSTART:20260430T190000Z
DTEND:20260430T220000Z
LOCATION:The Windsor Club
TRANSP:OPAQUE
SEQUENCE:0
UID:1274_1274_1274_1274
DTSTAMP:20260420T090700Z
ORGANIZER:CN=The Windsor Club:mailto:admin@thewindsorclub.com
STATUS:CONFIRMED
DESCRIPTION:
SUMMARY:DINING RESTRICTIONS
PRIORITY:5
CLASS:PUBLIC
BEGIN:VALARM
TRIGGER:PT180M
ACTION:DISPLAY
DESCRIPTION:Reminder
END:VALARM
END:VEVENT
END:VCALENDAR
